BEGIN:VCALENDAR
VERSION:2.0
PRODID:-//Library Market//iCal Export//EN
BEGIN:VEVENT
SUMMARY:Adult Program TBA
UID:12596
DTSTAMP:20260424T215300Z
DTSTART:20261106T010000Z
DTEND:20261106T030000Z
LOCATION:North Valley Public Library, 208 Main Street, Stevensville, MT 59
 870, United States
ROOM: Makerspace/ Community Room (Combined)
DESCRIPTION:
URL:https://northvalley.librarycalendar.com/event/adult-program-tba-12596
END:VEVENT
END:VCALENDAR
