BEGIN:VCALENDAR
VERSION:2.0
PRODID:-//Library Market//iCal Export//EN
BEGIN:VEVENT
SUMMARY:Adult Program TBA
UID:12580
DTSTAMP:20260425T135900Z
DTSTART:20260710T000000Z
DTEND:20260710T020000Z
LOCATION:North Valley Public Library, 208 Main Street, Stevensville, MT 59
 870, United States
ROOM: Makerspace/ Community Room (Combined)
DESCRIPTION:
URL:https://northvalley.librarycalendar.com/event/adult-program-tba-12580
END:VEVENT
END:VCALENDAR
